BEGIN:VCALENDAR
VERSION:2.0
PRODID:-//B4SH - ECPv6.15.20//NONSGML v1.0//EN
CALSCALE:GREGORIAN
METHOD:PUBLISH
X-WR-CALNAME:B4SH
X-ORIGINAL-URL:https://b4sh.org.uk
X-WR-CALDESC:Events for B4SH
REFRESH-INTERVAL;VALUE=DURATION:PT1H
X-Robots-Tag:noindex
X-PUBLISHED-TTL:PT1H
BEGIN:VTIMEZONE
TZID:Europe/London
BEGIN:DAYLIGHT
TZOFFSETFROM:+0000
TZOFFSETTO:+0100
TZNAME:BST
DTSTART:20210328T010000
END:DAYLIGHT
BEGIN:STANDARD
TZOFFSETFROM:+0100
TZOFFSETTO:+0000
TZNAME:GMT
DTSTART:20211031T010000
END:STANDARD
BEGIN:DAYLIGHT
TZOFFSETFROM:+0000
TZOFFSETTO:+0100
TZNAME:BST
DTSTART:20220327T010000
END:DAYLIGHT
BEGIN:STANDARD
TZOFFSETFROM:+0100
TZOFFSETTO:+0000
TZNAME:GMT
DTSTART:20221030T010000
END:STANDARD
BEGIN:DAYLIGHT
TZOFFSETFROM:+0000
TZOFFSETTO:+0100
TZNAME:BST
DTSTART:20230326T010000
END:DAYLIGHT
BEGIN:STANDARD
TZOFFSETFROM:+0100
TZOFFSETTO:+0000
TZNAME:GMT
DTSTART:20231029T010000
END:STANDARD
BEGIN:DAYLIGHT
TZOFFSETFROM:+0000
TZOFFSETTO:+0100
TZNAME:BST
DTSTART:20240331T010000
END:DAYLIGHT
BEGIN:STANDARD
TZOFFSETFROM:+0100
TZOFFSETTO:+0000
TZNAME:GMT
DTSTART:20241027T010000
END:STANDARD
BEGIN:DAYLIGHT
TZOFFSETFROM:+0000
TZOFFSETTO:+0100
TZNAME:BST
DTSTART:20250330T010000
END:DAYLIGHT
BEGIN:STANDARD
TZOFFSETFROM:+0100
TZOFFSETTO:+0000
TZNAME:GMT
DTSTART:20251026T010000
END:STANDARD
BEGIN:DAYLIGHT
TZOFFSETFROM:+0000
TZOFFSETTO:+0100
TZNAME:BST
DTSTART:20260329T010000
END:DAYLIGHT
BEGIN:STANDARD
TZOFFSETFROM:+0100
TZOFFSETTO:+0000
TZNAME:GMT
DTSTART:20261025T010000
END:STANDARD
END:VTIMEZONE
BEGIN:VEVENT
DTSTART;TZID=Europe/London:20250719T140000
DTEND;TZID=Europe/London:20250719T170000
DTSTAMP:20260424T101217
CREATED:20250520T134215Z
LAST-MODIFIED:20250520T134215Z
UID:26927-1752933600-1752944400@b4sh.org.uk
SUMMARY:Albury Produce Show
DESCRIPTION:We are delighted to be attending Albury Produce Show this year. \nCome and chat to your local fibre broadband provider and find out how to get connected to our rural network.
URL:https://b4sh.org.uk/event/albury-produce-show/
LOCATION:Albury Heath\, Sandy Lane\, Albury\, Surrey\, GU5 9DB\, United Kingdom
CATEGORIES:Local Events
END:VEVENT
BEGIN:VEVENT
DTSTART;TZID=Europe/London:20220829T130000
DTEND;TZID=Europe/London:20220829T163000
DTSTAMP:20260424T101217
CREATED:20220804T175149Z
LAST-MODIFIED:20220804T175402Z
UID:19515-1661778000-1661790600@b4sh.org.uk
SUMMARY:Peaslake Summer Fair
DESCRIPTION:Come and say hello! \nWe will be at Peaslake Summer Fair on bank holiday Monday 29th August. \nCome and find out more about our roll out plans for Peaslake for 1 Gig fibre to your house. \n\nEnjoy a slice of village life and all the fun of the fair at this year’s Peaslake Village Fair. The fair takes place in the picturesque village of Peaslake at the heart of the Surrey Hills every Bank Holiday Monday in August. The event is free to attend and runs from 1pm to 4.30pm. Lots of parking at Walking Bottom car park.
URL:https://b4sh.org.uk/event/peaslake-summer-fair/
LOCATION:Peaslake Village Centre\, Peaslake village GU5 9RR\, Walking Bottom\, Peaslake\, Surrey\, GU5 9RR\, United Kingdom
CATEGORIES:Local Events
ATTACH;FMTTYPE=image/webp:https://b4sh.org.uk/wp-content/uploads/2022/04/41f836_026ba429124f4a91a66223ab56698367mv2.jpg.webp
END:VEVENT
END:VCALENDAR